BEGIN:VCALENDAR
VERSION:2.0
PRODID:-//Mexico Trail Riders, Inc. - ECPv6.15.20//NONSGML v1.0//EN
CALSCALE:GREGORIAN
METHOD:PUBLISH
X-WR-CALNAME:Mexico Trail Riders, Inc.
X-ORIGINAL-URL:https://www.mexicotrailriders.com
X-WR-CALDESC:Events for Mexico Trail Riders, Inc.
REFRESH-INTERVAL;VALUE=DURATION:PT1H
X-Robots-Tag:noindex
X-PUBLISHED-TTL:PT1H
BEGIN:VTIMEZONE
TZID:America/New_York
BEGIN:DAYLIGHT
TZOFFSETFROM:-0500
TZOFFSETTO:-0400
TZNAME:EDT
DTSTART:20240310T070000
END:DAYLIGHT
BEGIN:STANDARD
TZOFFSETFROM:-0400
TZOFFSETTO:-0500
TZNAME:EST
DTSTART:20241103T060000
END:STANDARD
BEGIN:DAYLIGHT
TZOFFSETFROM:-0500
TZOFFSETTO:-0400
TZNAME:EDT
DTSTART:20250309T070000
END:DAYLIGHT
BEGIN:STANDARD
TZOFFSETFROM:-0400
TZOFFSETTO:-0500
TZNAME:EST
DTSTART:20251102T060000
END:STANDARD
BEGIN:DAYLIGHT
TZOFFSETFROM:-0500
TZOFFSETTO:-0400
TZNAME:EDT
DTSTART:20260308T070000
END:DAYLIGHT
BEGIN:STANDARD
TZOFFSETFROM:-0400
TZOFFSETTO:-0500
TZNAME:EST
DTSTART:20261101T060000
END:STANDARD
BEGIN:DAYLIGHT
TZOFFSETFROM:-0500
TZOFFSETTO:-0400
TZNAME:EDT
DTSTART:20270314T070000
END:DAYLIGHT
BEGIN:STANDARD
TZOFFSETFROM:-0400
TZOFFSETTO:-0500
TZNAME:EST
DTSTART:20271107T060000
END:STANDARD
END:VTIMEZONE
BEGIN:VEVENT
DTSTART;TZID=America/New_York:20260211T190000
DTEND;TZID=America/New_York:20260211T203000
DTSTAMP:20260423T160320
CREATED:20260116T221157Z
LAST-MODIFIED:20260116T221157Z
UID:13700-1770836400-1770841800@www.mexicotrailriders.com
SUMMARY:Club Meeting
DESCRIPTION:Location TBD
URL:https://www.mexicotrailriders.com/event/club-meeting-11/
LOCATION:NY
END:VEVENT
BEGIN:VEVENT
DTSTART;TZID=America/New_York:20260114T190000
DTEND;TZID=America/New_York:20260114T200000
DTSTAMP:20260423T160320
CREATED:20260101T222642Z
LAST-MODIFIED:20260101T222642Z
UID:13512-1768417200-1768420800@www.mexicotrailriders.com
SUMMARY:Club Meeting
DESCRIPTION:
URL:https://www.mexicotrailriders.com/event/club-meeting-10/
LOCATION:New Haven Legion\, 3 Mack Road\, Oswego\, 13126\, United States
END:VEVENT
BEGIN:VEVENT
DTSTART;TZID=America/New_York:20260114T190000
DTEND;TZID=America/New_York:20260114T200000
DTSTAMP:20260423T160320
CREATED:20251215T205006Z
LAST-MODIFIED:20251215T205006Z
UID:13289-1768417200-1768420800@www.mexicotrailriders.com
SUMMARY:Club Meeting
DESCRIPTION:Location TBD
URL:https://www.mexicotrailriders.com/event/club-meeting-9/
LOCATION:NY
END:VEVENT
BEGIN:VEVENT
DTSTART;VALUE=DATE:20251219
DTEND;VALUE=DATE:20251222
DTSTAMP:20260423T160320
CREATED:20251215T205239Z
LAST-MODIFIED:20251215T205239Z
UID:13291-1766102400-1766361599@www.mexicotrailriders.com
SUMMARY:Final Countdown: Trail Workdays
DESCRIPTION:Join us for the final countdown to the season. We will be spending 3 days finishing up signage\, moving equipment\, giving our future groomers hands-on practice and more. Please see our Facebook event for updates or contact Bailey at 315-806-6581 for more info.
URL:https://www.mexicotrailriders.com/event/final-countdown-trail-workdays/
LOCATION:NY
END:VEVENT
BEGIN:VEVENT
DTSTART;TZID=America/New_York:20251210T180000
DTEND;TZID=America/New_York:20251210T210000
DTSTAMP:20260423T160320
CREATED:20251207T235358Z
LAST-MODIFIED:20251207T235358Z
UID:13145-1765389600-1765400400@www.mexicotrailriders.com
SUMMARY:Club Meeting / Christmas Party
DESCRIPTION:
URL:https://www.mexicotrailriders.com/event/club-meeting-christmas-party/
LOCATION:New Haven Legion\, 3 Mack Road\, Oswego\, 13126\, United States
END:VEVENT
BEGIN:VEVENT
DTSTART;TZID=America/New_York:20251112T190000
DTEND;TZID=America/New_York:20251112T200000
DTSTAMP:20260423T160320
CREATED:20251111T211516Z
LAST-MODIFIED:20251111T211516Z
UID:12774-1762974000-1762977600@www.mexicotrailriders.com
SUMMARY:Club Meeting
DESCRIPTION:
URL:https://www.mexicotrailriders.com/event/club-meeting-8/
LOCATION:New Haven Legion\, 3 Mack Road\, Oswego\, 13126\, United States
END:VEVENT
BEGIN:VEVENT
DTSTART;TZID=America/New_York:20251008T190000
DTEND;TZID=America/New_York:20251008T203000
DTSTAMP:20260423T160320
CREATED:20251005T203605Z
LAST-MODIFIED:20251005T203605Z
UID:12300-1759950000-1759955400@www.mexicotrailriders.com
SUMMARY:Club Meeting
DESCRIPTION:
URL:https://www.mexicotrailriders.com/event/club-meeting-7/
LOCATION:Fairways and Dreams\, 6919 State Rte 3\, Pulaski\, NY\, 13142\, United States
END:VEVENT
BEGIN:VEVENT
DTSTART;TZID=America/New_York:20250913T090000
DTEND;TZID=America/New_York:20250913T170000
DTSTAMP:20260423T160320
CREATED:20250513T134331Z
LAST-MODIFIED:20250728T193642Z
UID:10695-1757754000-1757782800@www.mexicotrailriders.com
SUMMARY:Groomer Operator Certification Course
DESCRIPTION:Please contact Bailey at 315-806-6581 if you would like to sign-up for the course.
URL:https://www.mexicotrailriders.com/event/groomer-operator-certification-course/
LOCATION:Pulaski Boylston Snowmobile Barn\, 5001 N Jefferson St\, Pulaski\, NY\, 13142\, United States
END:VEVENT
BEGIN:VEVENT
DTSTART;TZID=America/New_York:20250910T190000
DTEND;TZID=America/New_York:20250910T203000
DTSTAMP:20260423T160320
CREATED:20250728T193744Z
LAST-MODIFIED:20250826T180001Z
UID:11577-1757530800-1757536200@www.mexicotrailriders.com
SUMMARY:Club Meeting
DESCRIPTION:Location TBD
URL:https://www.mexicotrailriders.com/event/club-meeting-6/
LOCATION:DriveWay Inn\, 4169 State Rte 3\, Fulton\, NY\, 13069\, United States
END:VEVENT
BEGIN:VEVENT
DTSTART;TZID=America/New_York:20250813T190000
DTEND;TZID=America/New_York:20250813T203000
DTSTAMP:20260423T160320
CREATED:20250728T193450Z
LAST-MODIFIED:20250728T193450Z
UID:11571-1755111600-1755117000@www.mexicotrailriders.com
SUMMARY:Club Meeting
DESCRIPTION:
URL:https://www.mexicotrailriders.com/event/club-meeting-5/
LOCATION:Luther’s House\, 707 O'connor Rd\, Oswego\, 13126\, United States
END:VEVENT
BEGIN:VEVENT
DTSTART;TZID=America/New_York:20250709T190000
DTEND;TZID=America/New_York:20250709T203000
DTSTAMP:20260423T160320
CREATED:20250615T163501Z
LAST-MODIFIED:20250615T163501Z
UID:11098-1752087600-1752093000@www.mexicotrailriders.com
SUMMARY:Club Meeting
DESCRIPTION:
URL:https://www.mexicotrailriders.com/event/club-meeting-4/
LOCATION:The Eis House\, 144 Academy Street\, Mexico\, NY\, 13114\, United States
END:VEVENT
BEGIN:VEVENT
DTSTART;TZID=America/New_York:20250614T120000
DTEND;TZID=America/New_York:20250614T200000
DTSTAMP:20260423T160320
CREATED:20250513T134108Z
LAST-MODIFIED:20250513T134715Z
UID:10692-1749902400-1749931200@www.mexicotrailriders.com
SUMMARY:Cornhole Tournament & Chicken BBQ
DESCRIPTION:Please join us for a fun day of cornhole! We will have basket raffles\, lottery boards\, and 50/50 tickets for sale. Tournament cost is $50 per team and chicken dinners are $15. Please contact Bailey at 315-806-6581 to sign up for the tournament or to secure a chicken dinner.
URL:https://www.mexicotrailriders.com/event/cornhole-tournament-chicken-bbq/
LOCATION:Dominick’s Sports Tavern\, 390 Country Rte 51A\, Oswego\, NY\, 13126\, United States
END:VEVENT
BEGIN:VEVENT
DTSTART;TZID=America/New_York:20250611T190000
DTEND;TZID=America/New_York:20250611T203000
DTSTAMP:20260423T160320
CREATED:20250513T134614Z
LAST-MODIFIED:20250522T235805Z
UID:10699-1749668400-1749673800@www.mexicotrailriders.com
SUMMARY:Club Meeting
DESCRIPTION:
URL:https://www.mexicotrailriders.com/event/club-meeting-3/
LOCATION:Fairways and Dreams\, 6919 State Rte 3\, Pulaski\, NY\, 13142\, United States
END:VEVENT
BEGIN:VEVENT
DTSTART;TZID=America/New_York:20250514T190000
DTEND;TZID=America/New_York:20250514T203000
DTSTAMP:20260423T160320
CREATED:20250513T133911Z
LAST-MODIFIED:20250513T133911Z
UID:10689-1747249200-1747254600@www.mexicotrailriders.com
SUMMARY:Club Meeting
DESCRIPTION:
URL:https://www.mexicotrailriders.com/event/club-meeting-2/
LOCATION:Palermo Fire Department\, 4170 State Rte 3\, Fulton\, NY\, 13069\, United States
END:VEVENT
BEGIN:VEVENT
DTSTART;TZID=America/New_York:20250427T153000
DTEND;TZID=America/New_York:20250427T173000
DTSTAMP:20260423T160320
CREATED:20250424T060100Z
LAST-MODIFIED:20250424T060100Z
UID:10484-1745767800-1745775000@www.mexicotrailriders.com
SUMMARY:Club Meeting
DESCRIPTION:
URL:https://www.mexicotrailriders.com/event/club-meeting/
LOCATION:DriveWay Inn\, 4169 State Rte 3\, Fulton\, NY\, 13069\, United States
ORGANIZER;CN="Mexico Trail Riders%2C Inc.":MAILTO:president@mexicotrailriders.com
END:VEVENT
END:VCALENDAR